Workbook

Sheet Vakantieplanning
A1: Aanvraag-ID | B1: Medewerker | C1: Stad | D1: Team | E1: Verlofsoort | F1: Startdatum | G1: Einddatum | H1: Aantal werkdagen | I1: Beschikbaar saldo | J1: Resterend saldo | K1: Status | L1: Goedkeurder | M1: Opmerking
A2: V-2026-001 | B2: Sanne | C2: =IF(B2="","",IFERROR(VLOOKUP(B2,'Medewerkers'!$A$2:$D$101,3,FALSE),"Onbekend")) | D2: =IF(B2="","",IFERROR(VLOOKUP(B2,'Medewerkers'!$A$2:$D$101,4,FALSE),"Onbekend")) | E2: Vakantie | F2: 46090 | G2: 46094 | H2: =IF(B2="","",IF(OR(F2="",G2=""),"",NETWORKDAYS(F2,G2))) | I2: =IF(B2="","",IFERROR(VLOOKUP(B2,'Medewerkers'!$A$2:$F$101,6,FALSE),0)) | J2: =IF(B2="","",I2-H2) | K2: Goedgekeurd | L2: Maaike Jansen | M2: Voorjaarsvakantie
A3: V-2026-002 | B3: Daan | C3: =IF(B3="","",IFERROR(VLOOKUP(B3,'Medewerkers'!$A$2:$D$101,3,FALSE),"Onbekend")) | D3: =IF(B3="","",IFERROR(VLOOKUP(B3,'Medewerkers'!$A$2:$D$101,4,FALSE),"Onbekend")) | E3: Vakantie | F3: 46118 | G3: 46122 | H3: =IF(B3="","",IF(OR(F3="",G3=""),"",NETWORKDAYS(F3,G3))) | I3: =IF(B3="","",IFERROR(VLOOKUP(B3,'Medewerkers'!$A$2:$F$101,6,FALSE),0)) | J3: =IF(B3="","",I3-H3) | K3: Goedgekeurd | L3: Koen de Vries | M3: Korte voorjaarsreis
A4: V-2026-003 | B4: Emma | C4: =IF(B4="","",IFERROR(VLOOKUP(B4,'Medewerkers'!$A$2:$D$101,3,FALSE),"Onbekend")) | D4: =IF(B4="","",IFERROR(VLOOKUP(B4,'Medewerkers'!$A$2:$D$101,4,FALSE),"Onbekend")) | E4: Vakantie | F4: 46156 | G4: 46157 | H4: =IF(B4="","",IF(OR(F4="",G4=""),"",NETWORKDAYS(F4,G4))) | I4: =IF(B4="","",IFERROR(VLOOKUP(B4,'Medewerkers'!$A$2:$F$101,6,FALSE),0)) | J4: =IF(B4="","",I4-H4) | K4: Aangevraagd | L4: Maaike Jansen | M4: Rond Hemelvaart
A5: V-2026-004 | B5: Ruben | C5: =IF(B5="","",IFERROR(VLOOKUP(B5,'Medewerkers'!$A$2:$D$101,3,FALSE),"Onbekend")) | D5: =IF(B5="","",IFERROR(VLOOKUP(B5,'Medewerkers'!$A$2:$D$101,4,FALSE),"Onbekend")) | E5: Vakantie | F5: 46167 | G5: 46171 | H5: =IF(B5="","",IF(OR(F5="",G5=""),"",NETWORKDAYS(F5,G5))) | I5: =IF(B5="","",IFERROR(VLOOKUP(B5,'Medewerkers'!$A$2:$F$101,6,FALSE),0)) | J5: =IF(B5="","",I5-H5) | K5: Afgewezen | L5: Koen de Vries | M5: Bezetting Operations onvoldoende
A6: V-2026-005 | B6: Lieke | C6: =IF(B6="","",IFERROR(VLOOKUP(B6,'Medewerkers'!$A$2:$D$101,3,FALSE),"Onbekend")) | D6: =IF(B6="","",IFERROR(VLOOKUP(B6,'Medewerkers'!$A$2:$D$101,4,FALSE),"Onbekend")) | E6: Vakantie | F6: 46174 | G6: 46178 | H6: =IF(B6="","",IF(OR(F6="",G6=""),"",NETWORKDAYS(F6,G6))) | I6: =IF(B6="","",IFERROR(VLOOKUP(B6,'Medewerkers'!$A$2:$F$101,6,FALSE),0)) | J6: =IF(B6="","",I6-H6) | K6: Goedgekeurd | L6: Maaike Jansen | M6: Voorzomervakantie
A7: V-2026-006 | B7: Lars | C7: =IF(B7="","",IFERROR(VLOOKUP(B7,'Medewerkers'!$A$2:$D$101,3,FALSE),"Onbekend")) | D7: =IF(B7="","",IFERROR(VLOOKUP(B7,'Medewerkers'!$A$2:$D$101,4,FALSE),"Onbekend")) | E7: Vakantie | F7: 46216 | G7: 46227 | H7: =IF(B7="","",IF(OR(F7="",G7=""),"",NETWORKDAYS(F7,G7))) | I7: =IF(B7="","",IFERROR(VLOOKUP(B7,'Medewerkers'!$A$2:$F$101,6,FALSE),0)) | J7: =IF(B7="","",I7-H7) | K7: Aangevraagd | L7: Koen de Vries | M7: Zomervakantie
A8: V-2026-007 | B8: Sophie | C8: =IF(B8="","",IFERROR(VLOOKUP(B8,'Medewerkers'!$A$2:$D$101,3,FALSE),"Onbekend")) | D8: =IF(B8="","",IFERROR(VLOOKUP(B8,'Medewerkers'!$A$2:$D$101,4,FALSE),"Onbekend")) | E8: Vakantie | F8: 46237 | G8: 46248 | H8: =IF(B8="","",IF(OR(F8="",G8=""),"",NETWORKDAYS(F8,G8))) | I8: =IF(B8="","",IFERROR(VLOOKUP(B8,'Medewerkers'!$A$2:$F$101,6,FALSE),0)) | J8: =IF(B8="","",I8-H8) | K8: Goedgekeurd | L8: Maaike Jansen | M8: Zomervakantie
A9: V-2026-008 | B9: Bram | C9: =IF(B9="","",IFERROR(VLOOKUP(B9,'Medewerkers'!$A$2:$D$101,3,FALSE),"Onbekend")) | D9: =IF(B9="","",IFERROR(VLOOKUP(B9,'Medewerkers'!$A$2:$D$101,4,FALSE),"Onbekend")) | E9: Vakantie | F9: 46286 | G9: 46290 | H9: =IF(B9="","",IF(OR(F9="",G9=""),"",NETWORKDAYS(F9,G9))) | I9: =IF(B9="","",IFERROR(VLOOKUP(B9,'Medewerkers'!$A$2:$F$101,6,FALSE),0)) | J9: =IF(B9="","",I9-H9) | K9: Afgewezen | L9: Koen de Vries | M9: Piekperiode Sales
A10: V-2026-009 | B10: Julia | C10: =IF(B10="","",IFERROR(VLOOKUP(B10,'Medewerkers'!$A$2:$D$101,3,FALSE),"Onbekend")) | D10: =IF(B10="","",IFERROR(VLOOKUP(B10,'Medewerkers'!$A$2:$D$101,4,FALSE),"Onbekend")) | E10: Vakantie | F10: 46314 | G10: 46318 | H10: =IF(B10="","",IF(OR(F10="",G10=""),"",NETWORKDAYS(F10,G10))) | I10: =IF(B10="","",IFERROR(VLOOKUP(B10,'Medewerkers'!$A$2:$F$101,6,FALSE),0)) | J10: =IF(B10="","",I10-H10) | K10: Aangevraagd | L10: Maaike Jansen | M10: Herfstvakantie
A11: V-2026-010 | B11: Thijs | C11: =IF(B11="","",IFERROR(VLOOKUP(B11,'Medewerkers'!$A$2:$D$101,3,FALSE),"Onbekend")) | D11: =IF(B11="","",IFERROR(VLOOKUP(B11,'Medewerkers'!$A$2:$D$101,4,FALSE),"Onbekend")) | E11: Vakantie | F11: 46321 | G11: 46325 | H11: =IF(B11="","",IF(OR(F11="",G11=""),"",NETWORKDAYS(F11,G11))) | I11: =IF(B11="","",IFERROR(VLOOKUP(B11,'Medewerkers'!$A$2:$F$101,6,FALSE),0)) | J11: =IF(B11="","",I11-H11) | K11: Geannuleerd | L11: Koen de Vries | M11: Aanvraag ingetrokken
C12: =IF(B12="","",IFERROR(VLOOKUP(B12,'Medewerkers'!$A$2:$D$101,3,FALSE),"Onbekend")) | D12: =IF(B12="","",IFERROR(VLOOKUP(B12,'Medewerkers'!$A$2:$D$101,4,FALSE),"Onbekend")) | H12: =IF(B12="","",IF(OR(F12="",G12=""),"",NETWORKDAYS(F12,G12))) | I12: =IF(B12="","",IFERROR(VLOOKUP(B12,'Medewerkers'!$A$2:$F$101,6,FALSE),0)) | J12: =IF(B12="","",I12-H12)
C13: =IF(B13="","",IFERROR(VLOOKUP(B13,'Medewerkers'!$A$2:$D$101,3,FALSE),"Onbekend")) | D13: =IF(B13="","",IFERROR(VLOOKUP(B13,'Medewerkers'!$A$2:$D$101,4,FALSE),"Onbekend")) | H13: =IF(B13="","",IF(OR(F13="",G13=""),"",NETWORKDAYS(F13,G13))) | I13: =IF(B13="","",IFERROR(VLOOKUP(B13,'Medewerkers'!$A$2:$F$101,6,FALSE),0)) | J13: =IF(B13="","",I13-H13)
C14: =IF(B14="","",IFERROR(VLOOKUP(B14,'Medewerkers'!$A$2:$D$101,3,FALSE),"Onbekend")) | D14: =IF(B14="","",IFERROR(VLOOKUP(B14,'Medewerkers'!$A$2:$D$101,4,FALSE),"Onbekend")) | H14: =IF(B14="","",IF(OR(F14="",G14=""),"",NETWORKDAYS(F14,G14))) | I14: =IF(B14="","",IFERROR(VLOOKUP(B14,'Medewerkers'!$A$2:$F$101,6,FALSE),0)) | J14: =IF(B14="","",I14-H14)
C15: =IF(B15="","",IFERROR(VLOOKUP(B15,'Medewerkers'!$A$2:$D$101,3,FALSE),"Onbekend")) | D15: =IF(B15="","",IFERROR(VLOOKUP(B15,'Medewerkers'!$A$2:$D$101,4,FALSE),"Onbekend")) | H15: =IF(B15="","",IF(OR(F15="",G15=""),"",NETWORKDAYS(F15,G15))) | I15: =IF(B15="","",IFERROR(VLOOKUP(B15,'Medewerkers'!$A$2:$F$101,6,FALSE),0)) | J15: =IF(B15="","",I15-H15)
C16: =IF(B16="","",IFERROR(VLOOKUP(B16,'Medewerkers'!$A$2:$D$101,3,FALSE),"Onbekend")) | D16: =IF(B16="","",IFERROR(VLOOKUP(B16,'Medewerkers'!$A$2:$D$101,4,FALSE),"Onbekend")) | H16: =IF(B16="","",IF(OR(F16="",G16=""),"",NETWORKDAYS(F16,G16))) | I16: =IF(B16="","",IFERROR(VLOOKUP(B16,'Medewerkers'!$A$2:$F$101,6,FALSE),0)) | J16: =IF(B16="","",I16-H16)
C17: =IF(B17="","",IFERROR(VLOOKUP(B17,'Medewerkers'!$A$2:$D$101,3,FALSE),"Onbekend")) | D17: =IF(B17="","",IFERROR(VLOOKUP(B17,'Medewerkers'!$A$2:$D$101,4,FALSE),"Onbekend")) | H17: =IF(B17="","",IF(OR(F17="",G17=""),"",NETWORKDAYS(F17,G17))) | I17: =IF(B17="","",IFERROR(VLOOKUP(B17,'Medewerkers'!$A$2:$F$101,6,FALSE),0)) | J17: =IF(B17="","",I17-H17)
C18: =IF(B18="","",IFERROR(VLOOKUP(B18,'Medewerkers'!$A$2:$D$101,3,FALSE),"Onbekend")) | D18: =IF(B18="","",IFERROR(VLOOKUP(B18,'Medewerkers'!$A$2:$D$101,4,FALSE),"Onbekend")) | H18: =IF(B18="","",IF(OR(F18="",G18=""),"",NETWORKDAYS(F18,G18))) | I18: =IF(B18="","",IFERROR(VLOOKUP(B18,'Medewerkers'!$A$2:$F$101,6,FALSE),0)) | J18: =IF(B18="","",I18-H18)
C19: =IF(B19="","",IFERROR(VLOOKUP(B19,'Medewerkers'!$A$2:$D$101,3,FALSE),"Onbekend")) | D19: =IF(B19="","",IFERROR(VLOOKUP(B19,'Medewerkers'!$A$2:$D$101,4,FALSE),"Onbekend")) | H19: =IF(B19="","",IF(OR(F19="",G19=""),"",NETWORKDAYS(F19,G19))) | I19: =IF(B19="","",IFERROR(VLOOKUP(B19,'Medewerkers'!$A$2:$F$101,6,FALSE),0)) | J19: =IF(B19="","",I19-H19)
C20: =IF(B20="","",IFERROR(VLOOKUP(B20,'Medewerkers'!$A$2:$D$101,3,FALSE),"Onbekend")) | D20: =IF(B20="","",IFERROR(VLOOKUP(B20,'Medewerkers'!$A$2:$D$101,4,FALSE),"Onbekend")) | H20: =IF(B20="","",IF(OR(F20="",G20=""),"",NETWORKDAYS(F20,G20))) | I20: =IF(B20="","",IFERROR(VLOOKUP(B20,'Medewerkers'!$A$2:$F$101,6,FALSE),0)) | J20: =IF(B20="","",I20-H20)
C21: =IF(B21="","",IFERROR(VLOOKUP(B21,'Medewerkers'!$A$2:$D$101,3,FALSE),"Onbekend")) | D21: =IF(B21="","",IFERROR(VLOOKUP(B21,'Medewerkers'!$A$2:$D$101,4,FALSE),"Onbekend")) | H21: =IF(B21="","",IF(OR(F21="",G21=""),"",NETWORKDAYS(F21,G21))) | I21: =IF(B21="","",IFERROR(VLOOKUP(B21,'Medewerkers'!$A$2:$F$101,6,FALSE),0)) | J21: =IF(B21="","",I21-H21)
C22: =IF(B22="","",IFERROR(VLOOKUP(B22,'Medewerkers'!$A$2:$D$101,3,FALSE),"Onbekend")) | D22: =IF(B22="","",IFERROR(VLOOKUP(B22,'Medewerkers'!$A$2:$D$101,4,FALSE),"Onbekend")) | H22: =IF(B22="","",IF(OR(F22="",G22=""),"",NETWORKDAYS(F22,G22))) | I22: =IF(B22="","",IFERROR(VLOOKUP(B22,'Medewerkers'!$A$2:$F$101,6,FALSE),0)) | J22: =IF(B22="","",I22-H22)
C23: =IF(B23="","",IFERROR(VLOOKUP(B23,'Medewerkers'!$A$2:$D$101,3,FALSE),"Onbekend")) | D23: =IF(B23="","",IFERROR(VLOOKUP(B23,'Medewerkers'!$A$2:$D$101,4,FALSE),"Onbekend")) | H23: =IF(B23="","",IF(OR(F23="",G23=""),"",NETWORKDAYS(F23,G23))) | I23: =IF(B23="","",IFERROR(VLOOKUP(B23,'Medewerkers'!$A$2:$F$101,6,FALSE),0)) | J23: =IF(B23="","",I23-H23)
... C101: =IF(B101="","",IFERROR(VLOOKUP(B101,'Medewerkers'!$A$2:$D$101,3,FALSE),"Onbekend")) | D101: =IF(B101="","",IFERROR(VLOOKUP(B101,'Medewerkers'!$A$2:$D$101,4,FALSE),"Onbekend")) | H101: =IF(B101="","",IF(OR(F101="",G101=""),"",NETWORKDAYS(F101,G101))) | I101: =IF(B101="","",IFERROR(VLOOKUP(B101,'Medewerkers'!$A$2:$F$101,6,FALSE),0)) | J101: =IF(B101="","",I101-H101)

Sheet Medewerkers
A1: Medewerker | B1: Functie | C1: Stad | D1: Team | E1: Jaarlijks verlofrecht | F1: Beschikbaar vakantiesaldo
A2: Sanne | B2: Accountmanager | C2: Amsterdam | D2: Sales | E2: 25 | F2: 20
A3: Daan | B3: Marketeer | C3: Rotterdam | D3: Marketing | E3: 24 | F3: 18
A4: Emma | B4: Financieel analist | C4: Utrecht | D4: Finance | E4: 26 | F4: 22
A5: Lars | B5: Softwareontwikkelaar | C5: Eindhoven | D5: IT | E5: 25 | F5: 16
A6: Sophie | B6: Operations coördinator | C6: Groningen | D6: Operations | E6: 24 | F6: 19
A7: Bram | B7: Sales consultant | C7: Den Haag | D7: Sales | E7: 23 | F7: 14
A8: Julia | B8: Content specialist | C8: Tilburg | D8: Marketing | E8: 25 | F8: 21
A9: Thijs | B9: Controller | C9: Nijmegen | D9: Finance | E9: 26 | F9: 17
A10: Lieke | B10: Systeembeheerder | C10: Breda | D10: IT | E10: 27 | F10: 24
A11: Ruben | B11: Planner | C11: Haarlem | D11: Operations | E11: 22 | F11: 12

Sheet Overzicht
A1: Overzicht vakantieplanning 2026
A3: Kerncijfers | B3: Waarde
A4: Totaal aantal aanvragen | B4: =COUNTA('Vakantieplanning'!$A$2:$A$101)
A5: Totaal aangevraagde werkdagen | B5: =SUM('Vakantieplanning'!$H$2:$H$101)
A6: Gemiddeld aantal werkdagen per aanvraag | B6: =IFERROR(AVERAGE('Vakantieplanning'!$H$2:$H$101),0)
A7: Aantal goedgekeurde aanvragen | B7: =COUNTIF('Vakantieplanning'!$K$2:$K$101,"Goedgekeurd")
A8: Aantal openstaande aanvragen | B8: =COUNTIF('Vakantieplanning'!$K$2:$K$101,"Aangevraagd")
A9: Goedkeuringspercentage | B9: =IFERROR(COUNTIF('Vakantieplanning'!$K$2:$K$101,"Goedgekeurd")/COUNTA('Vakantieplanning'!$A$2:$A$101),0)
A13: Medewerker | B13: Totaal opgenomen werkdagen | C13: Resterend saldo | E13: Status | F13: Aantal aanvragen | G13: Maand | H13: Startdatum | I13: Einddatum | J13: Aangevraagde werkdagen
A14: =IF('Medewerkers'!A2="","",'Medewerkers'!A2) | B14: =IF(A14="","",SUMIF('Vakantieplanning'!$B$2:$B$101,A14,'Vakantieplanning'!$H$2:$H$101)) | C14: =IF(A14="","",IFERROR(VLOOKUP(A14,'Medewerkers'!$A$2:$F$101,6,FALSE)-B14,0)) | E14: Aangevraagd | F14: =COUNTIF('Vakantieplanning'!$K$2:$K$101,E14) | G14: Januari | H14: 46023 | I14: 46053 | J14: =SUMIFS('Vakantieplanning'!$H$2:$H$101,'Vakantieplanning'!$F$2:$F$101,">="&H14,'Vakantieplanning'!$F$2:$F$101,"<="&I14)
A15: =IF('Medewerkers'!A3="","",'Medewerkers'!A3) | B15: =IF(A15="","",SUMIF('Vakantieplanning'!$B$2:$B$101,A15,'Vakantieplanning'!$H$2:$H$101)) | C15: =IF(A15="","",IFERROR(VLOOKUP(A15,'Medewerkers'!$A$2:$F$101,6,FALSE)-B15,0)) | E15: Goedgekeurd | F15: =COUNTIF('Vakantieplanning'!$K$2:$K$101,E15) | G15: Februari | H15: 46054 | I15: 46081 | J15: =SUMIFS('Vakantieplanning'!$H$2:$H$101,'Vakantieplanning'!$F$2:$F$101,">="&H15,'Vakantieplanning'!$F$2:$F$101,"<="&I15)
A16: =IF('Medewerkers'!A4="","",'Medewerkers'!A4) | B16: =IF(A16="","",SUMIF('Vakantieplanning'!$B$2:$B$101,A16,'Vakantieplanning'!$H$2:$H$101)) | C16: =IF(A16="","",IFERROR(VLOOKUP(A16,'Medewerkers'!$A$2:$F$101,6,FALSE)-B16,0)) | E16: Afgewezen | F16: =COUNTIF('Vakantieplanning'!$K$2:$K$101,E16) | G16: Maart | H16: 46082 | I16: 46112 | J16: =SUMIFS('Vakantieplanning'!$H$2:$H$101,'Vakantieplanning'!$F$2:$F$101,">="&H16,'Vakantieplanning'!$F$2:$F$101,"<="&I16)
A17: =IF('Medewerkers'!A5="","",'Medewerkers'!A5) | B17: =IF(A17="","",SUMIF('Vakantieplanning'!$B$2:$B$101,A17,'Vakantieplanning'!$H$2:$H$101)) | C17: =IF(A17="","",IFERROR(VLOOKUP(A17,'Medewerkers'!$A$2:$F$101,6,FALSE)-B17,0)) | E17: Geannuleerd | F17: =COUNTIF('Vakantieplanning'!$K$2:$K$101,E17) | G17: April | H17: 46113 | I17: 46142 | J17: =SUMIFS('Vakantieplanning'!$H$2:$H$101,'Vakantieplanning'!$F$2:$F$101,">="&H17,'Vakantieplanning'!$F$2:$F$101,"<="&I17)
A18: =IF('Medewerkers'!A6="","",'Medewerkers'!A6) | B18: =IF(A18="","",SUMIF('Vakantieplanning'!$B$2:$B$101,A18,'Vakantieplanning'!$H$2:$H$101)) | C18: =IF(A18="","",IFERROR(VLOOKUP(A18,'Medewerkers'!$A$2:$F$101,6,FALSE)-B18,0)) | G18: Mei | H18: 46143 | I18: 46173 | J18: =SUMIFS('Vakantieplanning'!$H$2:$H$101,'Vakantieplanning'!$F$2:$F$101,">="&H18,'Vakantieplanning'!$F$2:$F$101,"<="&I18)
A19: =IF('Medewerkers'!A7="","",'Medewerkers'!A7) | B19: =IF(A19="","",SUMIF('Vakantieplanning'!$B$2:$B$101,A19,'Vakantieplanning'!$H$2:$H$101)) | C19: =IF(A19="","",IFERROR(VLOOKUP(A19,'Medewerkers'!$A$2:$F$101,6,FALSE)-B19,0)) | G19: Juni | H19: 46174 | I19: 46203 | J19: =SUMIFS('Vakantieplanning'!$H$2:$H$101,'Vakantieplanning'!$F$2:$F$101,">="&H19,'Vakantieplanning'!$F$2:$F$101,"<="&I19)
A20: =IF('Medewerkers'!A8="","",'Medewerkers'!A8) | B20: =IF(A20="","",SUMIF('Vakantieplanning'!$B$2:$B$101,A20,'Vakantieplanning'!$H$2:$H$101)) | C20: =IF(A20="","",IFERROR(VLOOKUP(A20,'Medewerkers'!$A$2:$F$101,6,FALSE)-B20,0)) | G20: Juli | H20: 46204 | I20: 46234 | J20: =SUMIFS('Vakantieplanning'!$H$2:$H$101,'Vakantieplanning'!$F$2:$F$101,">="&H20,'Vakantieplanning'!$F$2:$F$101,"<="&I20)
A21: =IF('Medewerkers'!A9="","",'Medewerkers'!A9) | B21: =IF(A21="","",SUMIF('Vakantieplanning'!$B$2:$B$101,A21,'Vakantieplanning'!$H$2:$H$101)) | C21: =IF(A21="","",IFERROR(VLOOKUP(A21,'Medewerkers'!$A$2:$F$101,6,FALSE)-B21,0)) | G21: Augustus | H21: 46235 | I21: 46265 | J21: =SUMIFS('Vakantieplanning'!$H$2:$H$101,'Vakantieplanning'!$F$2:$F$101,">="&H21,'Vakantieplanning'!$F$2:$F$101,"<="&I21)
A22: =IF('Medewerkers'!A10="","",'Medewerkers'!A10) | B22: =IF(A22="","",SUMIF('Vakantieplanning'!$B$2:$B$101,A22,'Vakantieplanning'!$H$2:$H$101)) | C22: =IF(A22="","",IFERROR(VLOOKUP(A22,'Medewerkers'!$A$2:$F$101,6,FALSE)-B22,0)) | G22: September | H22: 46266 | I22: 46295 | J22: =SUMIFS('Vakantieplanning'!$H$2:$H$101,'Vakantieplanning'!$F$2:$F$101,">="&H22,'Vakantieplanning'!$F$2:$F$101,"<="&I22)
A23: =IF('Medewerkers'!A11="","",'Medewerkers'!A11) | B23: =IF(A23="","",SUMIF('Vakantieplanning'!$B$2:$B$101,A23,'Vakantieplanning'!$H$2:$H$101)) | C23: =IF(A23="","",IFERROR(VLOOKUP(A23,'Medewerkers'!$A$2:$F$101,6,FALSE)-B23,0)) | G23: Oktober | H23: 46296 | I23: 46326 | J23: =SUMIFS('Vakantieplanning'!$H$2:$H$101,'Vakantieplanning'!$F$2:$F$101,">="&H23,'Vakantieplanning'!$F$2:$F$101,"<="&I23)
A24: =IF('Medewerkers'!A12="","",'Medewerkers'!A12) | B24: =IF(A24="","",SUMIF('Vakantieplanning'!$B$2:$B$101,A24,'Vakantieplanning'!$H$2:$H$101)) | C24: =IF(A24="","",IFERROR(VLOOKUP(A24,'Medewerkers'!$A$2:$F$101,6,FALSE)-B24,0)) | G24: November | H24: 46327 | I24: 46356 | J24: =SUMIFS('Vakantieplanning'!$H$2:$H$101,'Vakantieplanning'!$F$2:$F$101,">="&H24,'Vakantieplanning'!$F$2:$F$101,"<="&I24)
A25: =IF('Medewerkers'!A13="","",'Medewerkers'!A13) | B25: =IF(A25="","",SUMIF('Vakantieplanning'!$B$2:$B$101,A25,'Vakantieplanning'!$H$2:$H$101)) | C25: =IF(A25="","",IFERROR(VLOOKUP(A25,'Medewerkers'!$A$2:$F$101,6,FALSE)-B25,0)) | G25: December | H25: 46357 | I25: 46387 | J25: =SUMIFS('Vakantieplanning'!$H$2:$H$101,'Vakantieplanning'!$F$2:$F$101,">="&H25,'Vakantieplanning'!$F$2:$F$101,"<="&I25)
A26: =IF('Medewerkers'!A14="","",'Medewerkers'!A14) | B26: =IF(A26="","",SUMIF('Vakantieplanning'!$B$2:$B$101,A26,'Vakantieplanning'!$H$2:$H$101)) | C26: =IF(A26="","",IFERROR(VLOOKUP(A26,'Medewerkers'!$A$2:$F$101,6,FALSE)-B26,0))
A27: =IF('Medewerkers'!A15="","",'Medewerkers'!A15) | B27: =IF(A27="","",SUMIF('Vakantieplanning'!$B$2:$B$101,A27,'Vakantieplanning'!$H$2:$H$101)) | C27: =IF(A27="","",IFERROR(VLOOKUP(A27,'Medewerkers'!$A$2:$F$101,6,FALSE)-B27,0))
A28: =IF('Medewerkers'!A16="","",'Medewerkers'!A16) | B28: =IF(A28="","",SUMIF('Vakantieplanning'!$B$2:$B$101,A28,'Vakantieplanning'!$H$2:$H$101)) | C28: =IF(A28="","",IFERROR(VLOOKUP(A28,'Medewerkers'!$A$2:$F$101,6,FALSE)-B28,0))
A29: =IF('Medewerkers'!A17="","",'Medewerkers'!A17) | B29: =IF(A29="","",SUMIF('Vakantieplanning'!$B$2:$B$101,A29,'Vakantieplanning'!$H$2:$H$101)) | C29: =IF(A29="","",IFERROR(VLOOKUP(A29,'Medewerkers'!$A$2:$F$101,6,FALSE)-B29,0))
A30: =IF('Medewerkers'!A18="","",'Medewerkers'!A18) | B30: =IF(A30="","",SUMIF('Vakantieplanning'!$B$2:$B$101,A30,'Vakantieplanning'!$H$2:$H$101)) | C30: =IF(A30="","",IFERROR(VLOOKUP(A30,'Medewerkers'!$A$2:$F$101,6,FALSE)-B30,0))
A31: =IF('Medewerkers'!A19="","",'Medewerkers'!A19) | B31: =IF(A31="","",SUMIF('Vakantieplanning'!$B$2:$B$101,A31,'Vakantieplanning'!$H$2:$H$101)) | C31: =IF(A31="","",IFERROR(VLOOKUP(A31,'Medewerkers'!$A$2:$F$101,6,FALSE)-B31,0))
A32: =IF('Medewerkers'!A20="","",'Medewerkers'!A20) | B32: =IF(A32="","",SUMIF('Vakantieplanning'!$B$2:$B$101,A32,'Vakantieplanning'!$H$2:$H$101)) | C32: =IF(A32="","",IFERROR(VLOOKUP(A32,'Medewerkers'!$A$2:$F$101,6,FALSE)-B32,0))
A33: =IF('Medewerkers'!A21="","",'Medewerkers'!A21) | B33: =IF(A33="","",SUMIF('Vakantieplanning'!$B$2:$B$101,A33,'Vakantieplanning'!$H$2:$H$101)) | C33: =IF(A33="","",IFERROR(VLOOKUP(A33,'Medewerkers'!$A$2:$F$101,6,FALSE)-B33,0))
A34: =IF('Medewerkers'!A22="","",'Medewerkers'!A22) | B34: =IF(A34="","",SUMIF('Vakantieplanning'!$B$2:$B$101,A34,'Vakantieplanning'!$H$2:$H$101)) | C34: =IF(A34="","",IFERROR(VLOOKUP(A34,'Medewerkers'!$A$2:$F$101,6,FALSE)-B34,0))
A35: =IF('Medewerkers'!A23="","",'Medewerkers'!A23) | B35: =IF(A35="","",SUMIF('Vakantieplanning'!$B$2:$B$101,A35,'Vakantieplanning'!$H$2:$H$101)) | C35: =IF(A35="","",IFERROR(VLOOKUP(A35,'Medewerkers'!$A$2:$F$101,6,FALSE)-B35,0))
A36: =IF('Medewerkers'!A24="","",'Medewerkers'!A24) | B36: =IF(A36="","",SUMIF('Vakantieplanning'!$B$2:$B$101,A36,'Vakantieplanning'!$H$2:$H$101)) | C36: =IF(A36="","",IFERROR(VLOOKUP(A36,'Medewerkers'!$A$2:$F$101,6,FALSE)-B36,0))
A37: =IF('Medewerkers'!A25="","",'Medewerkers'!A25) | B37: =IF(A37="","",SUMIF('Vakantieplanning'!$B$2:$B$101,A37,'Vakantieplanning'!$H$2:$H$101)) | C37: =IF(A37="","",IFERROR(VLOOKUP(A37,'Medewerkers'!$A$2:$F$101,6,FALSE)-B37,0))
... A113: =IF('Medewerkers'!A101="","",'Medewerkers'!A101) | B113: =IF(A113="","",SUMIF('Vakantieplanning'!$B$2:$B$101,A113,'Vakantieplanning'!$H$2:$H$101)) | C113: =IF(A113="","",IFERROR(VLOOKUP(A113,'Medewerkers'!$A$2:$F$101,6,FALSE)-B113,0))

Sheet Instructies
A1: Gebruiksinstructies vakantieplanner
A3: Nr. | B3: Onderwerp | C3: Toelichting
A4: 1 | B4: Nieuwe aanvraag | C4: Vul nieuwe vakantieaanvragen in op het werkblad Vakantieplanning. Elke rij bevat één aanvraag.
A5: 2 | B5: Datumnotatie | C5: Gebruik datums in het formaat DD-MM-JJJJ. De berekening van werkdagen sluit uitsluitend zaterdag en zondag uit.
A6: 3 | B6: Gele invoercellen | C6: Pas uitsluitend de gele invoercellen aan. De witte en lichtgroene cellen bevatten formules of automatisch opgehaalde gegevens.
A7: 4 | B7: Vakantiesaldo | C7: Werk het jaarlijks verlofrecht en het beschikbare vakantiesaldo bij op het werkblad Medewerkers.
A8: 5 | B8: Statussen | C8: Gebruik de statussen Aangevraagd, Goedgekeurd, Afgewezen en Geannuleerd consequent.
A9: 6 | B9: Saldo controleren | C9: Controleer aanvragen met een negatief resterend saldo voordat een aanvraag wordt goedgekeurd.
A10: 7 | B10: Beleid en feestdagen | C10: Houd rekening met organisatiebeleid, cao en feestdagen. Feestdagen worden niet automatisch uitgesloten van de standaardberekening.
A11: 8 | B11: AVG | C11: Verwerk persoonsgegevens zorgvuldig en volgens de AVG. Beperk toegang tot dit bestand tot bevoegde personen.
