Workbook

Sheet Ledenadministratie
A1: Lidnummer | B1: Voornaam | C1: Achternaam | D1: E-mailadres | E1: Telefoonnummer | F1: Woonplaats | G1: Lidmaatschapstype | H1: Inschrijfdatum | I1: Einddatum lidmaatschap | J1: Contributietarief | K1: Betaald bedrag | L1: Openstaand bedrag | M1: Betaalstatus | N1: Actief? | O1: Laatste betaalherinnering | P1: Opmerking | Q1: E-mailcontrole
A2: 1001 | B2: Sanne | C2: de Vries | D2: s.devries@example.nl | E2: 06-12345678 | F2: Utrecht | G2: Standaard | H2: 46037 | I2: 46401 | J2: =IF($A2="","",IFERROR(VLOOKUP($G2,Dashboard!$J$5:$K$7,2,FALSE),0)) | K2: 85 | L2: =IF($A2="","",MAX(0,J2-K2)) | M2: =IF($A2="","",IF(L2=0,"Betaald",IF(K2=0,"Nog niet betaald","Deels betaald"))) | N2: =IF($A2="","",IF(AND(H2<=TODAY(),OR(I2="",I2>=TODAY())),"Ja","Nee")) | O2: 46201 | Q2: =IF($A2="","",IF(D2="","Controleren","OK"))
A3: 1002 | B3: Daan | C3: Jansen | D3: d.jansen@example.nl | E3: 06-23456789 | F3: Amsterdam | G3: Standaard | H3: 46056 | J3: =IF($A3="","",IFERROR(VLOOKUP($G3,Dashboard!$J$5:$K$7,2,FALSE),0)) | K3: 0 | L3: =IF($A3="","",MAX(0,J3-K3)) | M3: =IF($A3="","",IF(L3=0,"Betaald",IF(K3=0,"Nog niet betaald","Deels betaald"))) | N3: =IF($A3="","",IF(AND(H3<=TODAY(),OR(I3="",I3>=TODAY())),"Ja","Nee")) | P3: Nieuw lid, incasso aangevraagd | Q3: =IF($A3="","",IF(D3="","Controleren","OK"))
A4: 1003 | B4: Emma | C4: Bakker | D4: e.bakker@example.nl | E4: 06-34567890 | F4: Rotterdam | G4: Jongeren | H4: 46093 | I4: 46461 | J4: =IF($A4="","",IFERROR(VLOOKUP($G4,Dashboard!$J$5:$K$7,2,FALSE),0)) | K4: 45 | L4: =IF($A4="","",MAX(0,J4-K4)) | M4: =IF($A4="","",IF(L4=0,"Betaald",IF(K4=0,"Nog niet betaald","Deels betaald"))) | N4: =IF($A4="","",IF(AND(H4<=TODAY(),OR(I4="",I4>=TODAY())),"Ja","Nee")) | Q4: =IF($A4="","",IF(D4="","Controleren","OK"))
A5: 1004 | B5: Lars | C5: Smit | E5: 06-45678901 | F5: Eindhoven | G5: Standaard | H5: 46120 | I5: 46216 | J5: =IF($A5="","",IFERROR(VLOOKUP($G5,Dashboard!$J$5:$K$7,2,FALSE),0)) | K5: 45 | L5: =IF($A5="","",MAX(0,J5-K5)) | M5: =IF($A5="","",IF(L5=0,"Betaald",IF(K5=0,"Nog niet betaald","Deels betaald"))) | N5: =IF($A5="","",IF(AND(H5<=TODAY(),OR(I5="",I5>=TODAY())),"Ja","Nee")) | O5: 46251 | P5: E-mailadres ontbreekt | Q5: =IF($A5="","",IF(D5="","Controleren","OK"))
A6: 1005 | B6: Sophie | C6: Visser | D6: s.visser@example.nl | E6: 06-56789012 | F6: Groningen | G6: Ereleden | H6: 46144 | J6: =IF($A6="","",IFERROR(VLOOKUP($G6,Dashboard!$J$5:$K$7,2,FALSE),0)) | K6: 0 | L6: =IF($A6="","",MAX(0,J6-K6)) | M6: =IF($A6="","",IF(L6=0,"Betaald",IF(K6=0,"Nog niet betaald","Deels betaald"))) | N6: =IF($A6="","",IF(AND(H6<=TODAY(),OR(I6="",I6>=TODAY())),"Ja","Nee")) | P6: Erelid sinds 2026 | Q6: =IF($A6="","",IF(D6="","Controleren","OK"))
A7: 1006 | B7: Bram | C7: Meijer | D7: b.meijer@example.nl | E7: 06-67890123 | F7: Den Haag | G7: Standaard | H7: 46169 | I7: 46351 | J7: =IF($A7="","",IFERROR(VLOOKUP($G7,Dashboard!$J$5:$K$7,2,FALSE),0)) | K7: 85 | L7: =IF($A7="","",MAX(0,J7-K7)) | M7: =IF($A7="","",IF(L7=0,"Betaald",IF(K7=0,"Nog niet betaald","Deels betaald"))) | N7: =IF($A7="","",IF(AND(H7<=TODAY(),OR(I7="",I7>=TODAY())),"Ja","Nee")) | O7: 46246 | Q7: =IF($A7="","",IF(D7="","Controleren","OK"))
A8: 1007 | B8: Julia | C8: Mulder | D8: j.mulder@example.nl | E8: 06-78901234 | F8: Tilburg | G8: Jongeren | H8: 46191 | I8: 46421 | J8: =IF($A8="","",IFERROR(VLOOKUP($G8,Dashboard!$J$5:$K$7,2,FALSE),0)) | K8: 20 | L8: =IF($A8="","",MAX(0,J8-K8)) | M8: =IF($A8="","",IF(L8=0,"Betaald",IF(K8=0,"Nog niet betaald","Deels betaald"))) | N8: =IF($A8="","",IF(AND(H8<=TODAY(),OR(I8="",I8>=TODAY())),"Ja","Nee")) | O8: 46256 | P8: Restant volgt in september | Q8: =IF($A8="","",IF(D8="","Controleren","OK"))
A9: 1008 | B9: Thijs | C9: Bos | D9: t.bos@example.nl | E9: 06-89012345 | F9: Nijmegen | G9: Standaard | H9: 46212 | I9: 46561 | J9: =IF($A9="","",IFERROR(VLOOKUP($G9,Dashboard!$J$5:$K$7,2,FALSE),0)) | K9: 85 | L9: =IF($A9="","",MAX(0,J9-K9)) | M9: =IF($A9="","",IF(L9=0,"Betaald",IF(K9=0,"Nog niet betaald","Deels betaald"))) | N9: =IF($A9="","",IF(AND(H9<=TODAY(),OR(I9="",I9>=TODAY())),"Ja","Nee")) | Q9: =IF($A9="","",IF(D9="","Controleren","OK"))
A10: 1009 | B10: Lieke | C10: van Dijk | D10: l.vandijk@example.nl | E10: 06-90123456 | F10: Breda | G10: Jongeren | H10: 46254 | J10: =IF($A10="","",IFERROR(VLOOKUP($G10,Dashboard!$J$5:$K$7,2,FALSE),0)) | K10: 0 | L10: =IF($A10="","",MAX(0,J10-K10)) | M10: =IF($A10="","",IF(L10=0,"Betaald",IF(K10=0,"Nog niet betaald","Deels betaald"))) | N10: =IF($A10="","",IF(AND(H10<=TODAY(),OR(I10="",I10>=TODAY())),"Ja","Nee")) | P10: Wacht op betaling | Q10: =IF($A10="","",IF(D10="","Controleren","OK"))
J11: =IF($A11="","",IFERROR(VLOOKUP($G11,Dashboard!$J$5:$K$7,2,FALSE),0)) | L11: =IF($A11="","",MAX(0,J11-K11)) | M11: =IF($A11="","",IF(L11=0,"Betaald",IF(K11=0,"Nog niet betaald","Deels betaald"))) | N11: =IF($A11="","",IF(AND(H11<=TODAY(),OR(I11="",I11>=TODAY())),"Ja","Nee")) | Q11: =IF($A11="","",IF(D11="","Controleren","OK"))
J12: =IF($A12="","",IFERROR(VLOOKUP($G12,Dashboard!$J$5:$K$7,2,FALSE),0)) | L12: =IF($A12="","",MAX(0,J12-K12)) | M12: =IF($A12="","",IF(L12=0,"Betaald",IF(K12=0,"Nog niet betaald","Deels betaald"))) | N12: =IF($A12="","",IF(AND(H12<=TODAY(),OR(I12="",I12>=TODAY())),"Ja","Nee")) | Q12: =IF($A12="","",IF(D12="","Controleren","OK"))
J13: =IF($A13="","",IFERROR(VLOOKUP($G13,Dashboard!$J$5:$K$7,2,FALSE),0)) | L13: =IF($A13="","",MAX(0,J13-K13)) | M13: =IF($A13="","",IF(L13=0,"Betaald",IF(K13=0,"Nog niet betaald","Deels betaald"))) | N13: =IF($A13="","",IF(AND(H13<=TODAY(),OR(I13="",I13>=TODAY())),"Ja","Nee")) | Q13: =IF($A13="","",IF(D13="","Controleren","OK"))
J14: =IF($A14="","",IFERROR(VLOOKUP($G14,Dashboard!$J$5:$K$7,2,FALSE),0)) | L14: =IF($A14="","",MAX(0,J14-K14)) | M14: =IF($A14="","",IF(L14=0,"Betaald",IF(K14=0,"Nog niet betaald","Deels betaald"))) | N14: =IF($A14="","",IF(AND(H14<=TODAY(),OR(I14="",I14>=TODAY())),"Ja","Nee")) | Q14: =IF($A14="","",IF(D14="","Controleren","OK"))
J15: =IF($A15="","",IFERROR(VLOOKUP($G15,Dashboard!$J$5:$K$7,2,FALSE),0)) | L15: =IF($A15="","",MAX(0,J15-K15)) | M15: =IF($A15="","",IF(L15=0,"Betaald",IF(K15=0,"Nog niet betaald","Deels betaald"))) | N15: =IF($A15="","",IF(AND(H15<=TODAY(),OR(I15="",I15>=TODAY())),"Ja","Nee")) | Q15: =IF($A15="","",IF(D15="","Controleren","OK"))
J16: =IF($A16="","",IFERROR(VLOOKUP($G16,Dashboard!$J$5:$K$7,2,FALSE),0)) | L16: =IF($A16="","",MAX(0,J16-K16)) | M16: =IF($A16="","",IF(L16=0,"Betaald",IF(K16=0,"Nog niet betaald","Deels betaald"))) | N16: =IF($A16="","",IF(AND(H16<=TODAY(),OR(I16="",I16>=TODAY())),"Ja","Nee")) | Q16: =IF($A16="","",IF(D16="","Controleren","OK"))
J17: =IF($A17="","",IFERROR(VLOOKUP($G17,Dashboard!$J$5:$K$7,2,FALSE),0)) | L17: =IF($A17="","",MAX(0,J17-K17)) | M17: =IF($A17="","",IF(L17=0,"Betaald",IF(K17=0,"Nog niet betaald","Deels betaald"))) | N17: =IF($A17="","",IF(AND(H17<=TODAY(),OR(I17="",I17>=TODAY())),"Ja","Nee")) | Q17: =IF($A17="","",IF(D17="","Controleren","OK"))
J18: =IF($A18="","",IFERROR(VLOOKUP($G18,Dashboard!$J$5:$K$7,2,FALSE),0)) | L18: =IF($A18="","",MAX(0,J18-K18)) | M18: =IF($A18="","",IF(L18=0,"Betaald",IF(K18=0,"Nog niet betaald","Deels betaald"))) | N18: =IF($A18="","",IF(AND(H18<=TODAY(),OR(I18="",I18>=TODAY())),"Ja","Nee")) | Q18: =IF($A18="","",IF(D18="","Controleren","OK"))
J19: =IF($A19="","",IFERROR(VLOOKUP($G19,Dashboard!$J$5:$K$7,2,FALSE),0)) | L19: =IF($A19="","",MAX(0,J19-K19)) | M19: =IF($A19="","",IF(L19=0,"Betaald",IF(K19=0,"Nog niet betaald","Deels betaald"))) | N19: =IF($A19="","",IF(AND(H19<=TODAY(),OR(I19="",I19>=TODAY())),"Ja","Nee")) | Q19: =IF($A19="","",IF(D19="","Controleren","OK"))
J20: =IF($A20="","",IFERROR(VLOOKUP($G20,Dashboard!$J$5:$K$7,2,FALSE),0)) | L20: =IF($A20="","",MAX(0,J20-K20)) | M20: =IF($A20="","",IF(L20=0,"Betaald",IF(K20=0,"Nog niet betaald","Deels betaald"))) | N20: =IF($A20="","",IF(AND(H20<=TODAY(),OR(I20="",I20>=TODAY())),"Ja","Nee")) | Q20: =IF($A20="","",IF(D20="","Controleren","OK"))
J21: =IF($A21="","",IFERROR(VLOOKUP($G21,Dashboard!$J$5:$K$7,2,FALSE),0)) | L21: =IF($A21="","",MAX(0,J21-K21)) | M21: =IF($A21="","",IF(L21=0,"Betaald",IF(K21=0,"Nog niet betaald","Deels betaald"))) | N21: =IF($A21="","",IF(AND(H21<=TODAY(),OR(I21="",I21>=TODAY())),"Ja","Nee")) | Q21: =IF($A21="","",IF(D21="","Controleren","OK"))
J22: =IF($A22="","",IFERROR(VLOOKUP($G22,Dashboard!$J$5:$K$7,2,FALSE),0)) | L22: =IF($A22="","",MAX(0,J22-K22)) | M22: =IF($A22="","",IF(L22=0,"Betaald",IF(K22=0,"Nog niet betaald","Deels betaald"))) | N22: =IF($A22="","",IF(AND(H22<=TODAY(),OR(I22="",I22>=TODAY())),"Ja","Nee")) | Q22: =IF($A22="","",IF(D22="","Controleren","OK"))
... J151: =IF($A151="","",IFERROR(VLOOKUP($G151,Dashboard!$J$5:$K$7,2,FALSE),0)) | L151: =IF($A151="","",MAX(0,J151-K151)) | M151: =IF($A151="","",IF(L151=0,"Betaald",IF(K151=0,"Nog niet betaald","Deels betaald"))) | N151: =IF($A151="","",IF(AND(H151<=TODAY(),OR(I151="",I151>=TODAY())),"Ja","Nee")) | Q151: =IF($A151="","",IF(D151="","Controleren","OK"))

Sheet Dashboard
A1: Dashboard Ledenadministratie
A3: Kerncijfers | J3: Tarieven
A4: Totaal aantal leden | B4: =COUNTA(Ledenadministratie!$A$2:$A$1000) | J4: Lidmaatschapstype | K4: Jaarcontributie
A5: Actieve leden | B5: =COUNTIF(Ledenadministratie!$N$2:$N$1000,"Ja") | J5: Standaard | K5: 85
A6: Inactieve leden | B6: =COUNTIF(Ledenadministratie!$N$2:$N$1000,"Nee") | J6: Jongeren | K6: 45
A7: Totaal gefactureerde contributie | B7: =SUM(Ledenadministratie!$J$2:$J$1000) | J7: Ereleden | K7: 0
A8: Totaal ontvangen | B8: =SUM(Ledenadministratie!$K$2:$K$1000)
A9: Totaal openstaand | B9: =SUM(Ledenadministratie!$L$2:$L$1000)
A10: Gemiddelde contributie | B10: =IFERROR(AVERAGE(Ledenadministratie!$J$2:$J$1000),0) | J10: Status | K10: Aantal
A11: Betalingspercentage | B11: =IFERROR(SUM(Ledenadministratie!$K$2:$K$1000)/SUM(Ledenadministratie!$J$2:$J$1000),0) | J11: Actief | K11: =COUNTIF(Ledenadministratie!$N$2:$N$1000,"Ja")
B12: ="" | J12: Inactief | K12: =COUNTIF(Ledenadministratie!$N$2:$N$1000,"Nee")
B13: =""
B14: =""
B15: ="" | J15: Type | K15: Aantal
B16: ="" | J16: Standaard | K16: =COUNTIF(Ledenadministratie!$G$2:$G$1000,J16)
B17: ="" | J17: Jongeren | K17: =COUNTIF(Ledenadministratie!$G$2:$G$1000,J17)
B18: ="" | J18: Ereleden | K18: =COUNTIF(Ledenadministratie!$G$2:$G$1000,J18)
B19: =""
B20: =""
B21: ="" | J21: Bedrag | K21: Totaal
B22: ="" | J22: Ontvangen | K22: =SUM(Ledenadministratie!$K$2:$K$1000)
B23: ="" | J23: Openstaand | K23: =SUM(Ledenadministratie!$L$2:$L$1000)
B24: ="" | K24: =""
B25: ="" | K25: =""
B26: ="" | K26: =""
B27: ="" | K27: =""
B28: ="" | K28: =""
B29: ="" | K29: =""
B30: ="" | K30: =""
B31: ="" | K31: =""
B32: ="" | K32: =""
B33: ="" | K33: =""
B34: ="" | K34: =""
B35: ="" | K35: =""
... B101: ="" | K101: =""

Sheet Instructies
A1: Instructies – Ledenadministratie Excel-sjabloon
B3: Doel en gebruik
B4: Dit sjabloon is bedoeld voor het beheren van leden, contributies, betalingen en lidmaatschapsstatussen van een Nederlandse vereniging.
B5: Het werkblad 'Ledenadministratie' is het hoofdblad: één rij per lid. Het werkblad 'Dashboard' toont kerncijfers, tarieven en grafieken.
B7: Handmatig in te vullen velden (lichtgeel gemarkeerd)
B8: Lidnummer, voornaam, achternaam, e-mailadres, telefoonnummer, woonplaats, lidmaatschapstype, inschrijfdatum, einddatum lidmaatschap, betaald bedrag, laatste betaalherinnering en opmerking.
B9: Het lidmaatschapstype kiest u uit de keuzelijst: Standaard, Jongeren of Ereleden.
B10: De overige kolommen (contributietarief, openstaand bedrag, betaalstatus, actief? en e-mailcontrole) worden automatisch berekend. Vul deze niet handmatig in.
B12: Datums en bedragen
B13: Voer datums in als DD-MM-JJJJ, bijvoorbeeld 15-01-2026.
B14: Laat de einddatum leeg als het lidmaatschap doorloopt; het lid blijft dan automatisch 'Actief'.
B15: Voer bedragen in als eurobedragen, bijvoorbeeld 85,00. De valutaopmaak wordt automatisch toegepast.
B17: Betekenis van de betaalstatussen
... B35: Bewaar back-ups op een veilige, gescheiden locatie zodat gegevens niet verloren gaan.
