Workbook

Sheet Kilometerregistratie
A1: Ritnummer | B1: Datum | C1: Medewerker | D1: Voertuig | E1: Kenteken | F1: Ritcategorie | G1: Vertrekadres | H1: Bestemming | I1: Zakelijk doel | J1: Beginstand km | K1: Eindstand km | L1: Gereden km | M1: Privé km | N1: Zakelijke km | O1: Vergoeding per km | P1: Totale vergoeding | Q1: Controle | R1: Opmerking
A2: =IF(B2="","",COUNT($B$2:B2)) | B2: 46099 | C2: Sanne | D2: Toyota Corolla | E2: XX-123-X | F2: Zakelijk | G2: Amsterdam | H2: Utrecht | I2: Klantgesprek | J2: 12500 | K2: 12546 | L2: =IF(OR(J2="",K2=""),"",IFERROR(K2-J2,0)) | M2: 2 | N2: =IF(L2="","",IF(F2="Privé",0,L2-M2)) | O2: =IF(F2="","",IFERROR(VLOOKUP(F2,'Instellingen & Instructies'!$A$8:$B$10,2,FALSE),0)) | P2: =IF(OR(N2="",O2=""),"",N2*O2) | Q2: =IF(OR(J2="",K2=""),IF(OR(J2<>"",K2<>""),"Ontbrekende km-stand",""),IF(K2<J2,"Controleer km-stand",IF(N2<0,"Controleer privé km","OK"))) | R2: Parkeerkosten niet inbegrepen.
A3: =IF(B3="","",COUNT($B$2:B3)) | B3: 46100 | C3: Daan | D3: Volkswagen Golf | E3: AB-456-C | F3: Zakelijk | G3: Rotterdam | H3: Den Haag | I3: Projectoverleg | J3: 12546 | K3: 12572 | L3: =IF(OR(J3="",K3=""),"",IFERROR(K3-J3,0)) | M3: 0 | N3: =IF(L3="","",IF(F3="Privé",0,L3-M3)) | O3: =IF(F3="","",IFERROR(VLOOKUP(F3,'Instellingen & Instructies'!$A$8:$B$10,2,FALSE),0)) | P3: =IF(OR(N3="",O3=""),"",N3*O3) | Q3: =IF(OR(J3="",K3=""),IF(OR(J3<>"",K3<>""),"Ontbrekende km-stand",""),IF(K3<J3,"Controleer km-stand",IF(N3<0,"Controleer privé km","OK")))
A4: =IF(B4="","",COUNT($B$2:B4)) | B4: 46101 | C4: Emma | D4: Kia Niro | E4: KL-789-D | F4: Zakelijk | G4: Eindhoven | H4: Tilburg | I4: Locatiebezoek | J4: 12572 | K4: 12605 | L4: =IF(OR(J4="",K4=""),"",IFERROR(K4-J4,0)) | M4: 0 | N4: =IF(L4="","",IF(F4="Privé",0,L4-M4)) | O4: =IF(F4="","",IFERROR(VLOOKUP(F4,'Instellingen & Instructies'!$A$8:$B$10,2,FALSE),0)) | P4: =IF(OR(N4="",O4=""),"",N4*O4) | Q4: =IF(OR(J4="",K4=""),IF(OR(J4<>"",K4<>""),"Ontbrekende km-stand",""),IF(K4<J4,"Controleer km-stand",IF(N4<0,"Controleer privé km","OK")))
A5: =IF(B5="","",COUNT($B$2:B5)) | B5: 46104 | C5: Lars | D5: Toyota Corolla | E5: XX-123-X | F5: Zakelijk | G5: Groningen | H5: Assen | I5: Zakelijke afspraak | J5: 12605 | K5: 12635 | L5: =IF(OR(J5="",K5=""),"",IFERROR(K5-J5,0)) | M5: 0 | N5: =IF(L5="","",IF(F5="Privé",0,L5-M5)) | O5: =IF(F5="","",IFERROR(VLOOKUP(F5,'Instellingen & Instructies'!$A$8:$B$10,2,FALSE),0)) | P5: =IF(OR(N5="",O5=""),"",N5*O5) | Q5: =IF(OR(J5="",K5=""),IF(OR(J5<>"",K5<>""),"Ontbrekende km-stand",""),IF(K5<J5,"Controleer km-stand",IF(N5<0,"Controleer privé km","OK")))
A6: =IF(B6="","",COUNT($B$2:B6)) | B6: 46105 | C6: Sophie | D6: Volkswagen Golf | E6: AB-456-C | F6: Zakelijk | G6: Utrecht | H6: Amsterdam | I6: Training | J6: 12635 | K6: 12681 | L6: =IF(OR(J6="",K6=""),"",IFERROR(K6-J6,0)) | M6: 0 | N6: =IF(L6="","",IF(F6="Privé",0,L6-M6)) | O6: =IF(F6="","",IFERROR(VLOOKUP(F6,'Instellingen & Instructies'!$A$8:$B$10,2,FALSE),0)) | P6: =IF(OR(N6="",O6=""),"",N6*O6) | Q6: =IF(OR(J6="",K6=""),IF(OR(J6<>"",K6<>""),"Ontbrekende km-stand",""),IF(K6<J6,"Controleer km-stand",IF(N6<0,"Controleer privé km","OK")))
A7: =IF(B7="","",COUNT($B$2:B7)) | B7: 46106 | C7: Bram | D7: Kia Niro | E7: KL-789-D | F7: Zakelijk | G7: Breda | H7: Rotterdam | I7: Klantbezoek | J7: 12681 | K7: 12733 | L7: =IF(OR(J7="",K7=""),"",IFERROR(K7-J7,0)) | M7: 3 | N7: =IF(L7="","",IF(F7="Privé",0,L7-M7)) | O7: =IF(F7="","",IFERROR(VLOOKUP(F7,'Instellingen & Instructies'!$A$8:$B$10,2,FALSE),0)) | P7: =IF(OR(N7="",O7=""),"",N7*O7) | Q7: =IF(OR(J7="",K7=""),IF(OR(J7<>"",K7<>""),"Ontbrekende km-stand",""),IF(K7<J7,"Controleer km-stand",IF(N7<0,"Controleer privé km","OK")))
A8: =IF(B8="","",COUNT($B$2:B8)) | B8: 46107 | C8: Julia | D8: Toyota Corolla | E8: XX-123-X | F8: Woon-werk | G8: Nijmegen | H8: Arnhem | I8: Woon-werkverkeer | J8: 12733 | K8: 12755 | L8: =IF(OR(J8="",K8=""),"",IFERROR(K8-J8,0)) | M8: 0 | N8: =IF(L8="","",IF(F8="Privé",0,L8-M8)) | O8: =IF(F8="","",IFERROR(VLOOKUP(F8,'Instellingen & Instructies'!$A$8:$B$10,2,FALSE),0)) | P8: =IF(OR(N8="",O8=""),"",N8*O8) | Q8: =IF(OR(J8="",K8=""),IF(OR(J8<>"",K8<>""),"Ontbrekende km-stand",""),IF(K8<J8,"Controleer km-stand",IF(N8<0,"Controleer privé km","OK")))
A9: =IF(B9="","",COUNT($B$2:B9)) | B9: 46108 | C9: Thijs | D9: Volkswagen Golf | E9: AB-456-C | F9: Privé | G9: Den Haag | H9: Leiden | I9: Privérit | J9: 12755 | K9: 12775 | L9: =IF(OR(J9="",K9=""),"",IFERROR(K9-J9,0)) | M9: 20 | N9: =IF(L9="","",IF(F9="Privé",0,L9-M9)) | O9: =IF(F9="","",IFERROR(VLOOKUP(F9,'Instellingen & Instructies'!$A$8:$B$10,2,FALSE),0)) | P9: =IF(OR(N9="",O9=""),"",N9*O9) | Q9: =IF(OR(J9="",K9=""),IF(OR(J9<>"",K9<>""),"Ontbrekende km-stand",""),IF(K9<J9,"Controleer km-stand",IF(N9<0,"Controleer privé km","OK")))
A10: =IF(B10="","",COUNT($B$2:B10)) | B10: 46111 | C10: Lieke | D10: Kia Niro | E10: KL-789-D | F10: Woon-werk | G10: Haarlem | H10: Amsterdam | I10: Woon-werkverkeer | J10: 12775 | K10: 12796 | L10: =IF(OR(J10="",K10=""),"",IFERROR(K10-J10,0)) | M10: 0 | N10: =IF(L10="","",IF(F10="Privé",0,L10-M10)) | O10: =IF(F10="","",IFERROR(VLOOKUP(F10,'Instellingen & Instructies'!$A$8:$B$10,2,FALSE),0)) | P10: =IF(OR(N10="",O10=""),"",N10*O10) | Q10: =IF(OR(J10="",K10=""),IF(OR(J10<>"",K10<>""),"Ontbrekende km-stand",""),IF(K10<J10,"Controleer km-stand",IF(N10<0,"Controleer privé km","OK")))
A11: =IF(B11="","",COUNT($B$2:B11)) | L11: =IF(OR(J11="",K11=""),"",IFERROR(K11-J11,0)) | N11: =IF(L11="","",IF(F11="Privé",0,L11-M11)) | O11: =IF(F11="","",IFERROR(VLOOKUP(F11,'Instellingen & Instructies'!$A$8:$B$10,2,FALSE),0)) | P11: =IF(OR(N11="",O11=""),"",N11*O11) | Q11: =IF(OR(J11="",K11=""),IF(OR(J11<>"",K11<>""),"Ontbrekende km-stand",""),IF(K11<J11,"Controleer km-stand",IF(N11<0,"Controleer privé km","OK")))
A12: =IF(B12="","",COUNT($B$2:B12)) | L12: =IF(OR(J12="",K12=""),"",IFERROR(K12-J12,0)) | N12: =IF(L12="","",IF(F12="Privé",0,L12-M12)) | O12: =IF(F12="","",IFERROR(VLOOKUP(F12,'Instellingen & Instructies'!$A$8:$B$10,2,FALSE),0)) | P12: =IF(OR(N12="",O12=""),"",N12*O12) | Q12: =IF(OR(J12="",K12=""),IF(OR(J12<>"",K12<>""),"Ontbrekende km-stand",""),IF(K12<J12,"Controleer km-stand",IF(N12<0,"Controleer privé km","OK")))
A13: =IF(B13="","",COUNT($B$2:B13)) | L13: =IF(OR(J13="",K13=""),"",IFERROR(K13-J13,0)) | N13: =IF(L13="","",IF(F13="Privé",0,L13-M13)) | O13: =IF(F13="","",IFERROR(VLOOKUP(F13,'Instellingen & Instructies'!$A$8:$B$10,2,FALSE),0)) | P13: =IF(OR(N13="",O13=""),"",N13*O13) | Q13: =IF(OR(J13="",K13=""),IF(OR(J13<>"",K13<>""),"Ontbrekende km-stand",""),IF(K13<J13,"Controleer km-stand",IF(N13<0,"Controleer privé km","OK")))
A14: =IF(B14="","",COUNT($B$2:B14)) | L14: =IF(OR(J14="",K14=""),"",IFERROR(K14-J14,0)) | N14: =IF(L14="","",IF(F14="Privé",0,L14-M14)) | O14: =IF(F14="","",IFERROR(VLOOKUP(F14,'Instellingen & Instructies'!$A$8:$B$10,2,FALSE),0)) | P14: =IF(OR(N14="",O14=""),"",N14*O14) | Q14: =IF(OR(J14="",K14=""),IF(OR(J14<>"",K14<>""),"Ontbrekende km-stand",""),IF(K14<J14,"Controleer km-stand",IF(N14<0,"Controleer privé km","OK")))
A15: =IF(B15="","",COUNT($B$2:B15)) | L15: =IF(OR(J15="",K15=""),"",IFERROR(K15-J15,0)) | N15: =IF(L15="","",IF(F15="Privé",0,L15-M15)) | O15: =IF(F15="","",IFERROR(VLOOKUP(F15,'Instellingen & Instructies'!$A$8:$B$10,2,FALSE),0)) | P15: =IF(OR(N15="",O15=""),"",N15*O15) | Q15: =IF(OR(J15="",K15=""),IF(OR(J15<>"",K15<>""),"Ontbrekende km-stand",""),IF(K15<J15,"Controleer km-stand",IF(N15<0,"Controleer privé km","OK")))
A16: =IF(B16="","",COUNT($B$2:B16)) | L16: =IF(OR(J16="",K16=""),"",IFERROR(K16-J16,0)) | N16: =IF(L16="","",IF(F16="Privé",0,L16-M16)) | O16: =IF(F16="","",IFERROR(VLOOKUP(F16,'Instellingen & Instructies'!$A$8:$B$10,2,FALSE),0)) | P16: =IF(OR(N16="",O16=""),"",N16*O16) | Q16: =IF(OR(J16="",K16=""),IF(OR(J16<>"",K16<>""),"Ontbrekende km-stand",""),IF(K16<J16,"Controleer km-stand",IF(N16<0,"Controleer privé km","OK")))
A17: =IF(B17="","",COUNT($B$2:B17)) | L17: =IF(OR(J17="",K17=""),"",IFERROR(K17-J17,0)) | N17: =IF(L17="","",IF(F17="Privé",0,L17-M17)) | O17: =IF(F17="","",IFERROR(VLOOKUP(F17,'Instellingen & Instructies'!$A$8:$B$10,2,FALSE),0)) | P17: =IF(OR(N17="",O17=""),"",N17*O17) | Q17: =IF(OR(J17="",K17=""),IF(OR(J17<>"",K17<>""),"Ontbrekende km-stand",""),IF(K17<J17,"Controleer km-stand",IF(N17<0,"Controleer privé km","OK")))
A18: =IF(B18="","",COUNT($B$2:B18)) | L18: =IF(OR(J18="",K18=""),"",IFERROR(K18-J18,0)) | N18: =IF(L18="","",IF(F18="Privé",0,L18-M18)) | O18: =IF(F18="","",IFERROR(VLOOKUP(F18,'Instellingen & Instructies'!$A$8:$B$10,2,FALSE),0)) | P18: =IF(OR(N18="",O18=""),"",N18*O18) | Q18: =IF(OR(J18="",K18=""),IF(OR(J18<>"",K18<>""),"Ontbrekende km-stand",""),IF(K18<J18,"Controleer km-stand",IF(N18<0,"Controleer privé km","OK")))
A19: =IF(B19="","",COUNT($B$2:B19)) | L19: =IF(OR(J19="",K19=""),"",IFERROR(K19-J19,0)) | N19: =IF(L19="","",IF(F19="Privé",0,L19-M19)) | O19: =IF(F19="","",IFERROR(VLOOKUP(F19,'Instellingen & Instructies'!$A$8:$B$10,2,FALSE),0)) | P19: =IF(OR(N19="",O19=""),"",N19*O19) | Q19: =IF(OR(J19="",K19=""),IF(OR(J19<>"",K19<>""),"Ontbrekende km-stand",""),IF(K19<J19,"Controleer km-stand",IF(N19<0,"Controleer privé km","OK")))
A20: =IF(B20="","",COUNT($B$2:B20)) | L20: =IF(OR(J20="",K20=""),"",IFERROR(K20-J20,0)) | N20: =IF(L20="","",IF(F20="Privé",0,L20-M20)) | O20: =IF(F20="","",IFERROR(VLOOKUP(F20,'Instellingen & Instructies'!$A$8:$B$10,2,FALSE),0)) | P20: =IF(OR(N20="",O20=""),"",N20*O20) | Q20: =IF(OR(J20="",K20=""),IF(OR(J20<>"",K20<>""),"Ontbrekende km-stand",""),IF(K20<J20,"Controleer km-stand",IF(N20<0,"Controleer privé km","OK")))
A21: =IF(B21="","",COUNT($B$2:B21)) | L21: =IF(OR(J21="",K21=""),"",IFERROR(K21-J21,0)) | N21: =IF(L21="","",IF(F21="Privé",0,L21-M21)) | O21: =IF(F21="","",IFERROR(VLOOKUP(F21,'Instellingen & Instructies'!$A$8:$B$10,2,FALSE),0)) | P21: =IF(OR(N21="",O21=""),"",N21*O21) | Q21: =IF(OR(J21="",K21=""),IF(OR(J21<>"",K21<>""),"Ontbrekende km-stand",""),IF(K21<J21,"Controleer km-stand",IF(N21<0,"Controleer privé km","OK")))
A22: =IF(B22="","",COUNT($B$2:B22)) | L22: =IF(OR(J22="",K22=""),"",IFERROR(K22-J22,0)) | N22: =IF(L22="","",IF(F22="Privé",0,L22-M22)) | O22: =IF(F22="","",IFERROR(VLOOKUP(F22,'Instellingen & Instructies'!$A$8:$B$10,2,FALSE),0)) | P22: =IF(OR(N22="",O22=""),"",N22*O22) | Q22: =IF(OR(J22="",K22=""),IF(OR(J22<>"",K22<>""),"Ontbrekende km-stand",""),IF(K22<J22,"Controleer km-stand",IF(N22<0,"Controleer privé km","OK")))
... A1001: =IF(B1001="","",COUNT($B$2:B1001)) | L1001: =IF(OR(J1001="",K1001=""),"",IFERROR(K1001-J1001,0)) | N1001: =IF(L1001="","",IF(F1001="Privé",0,L1001-M1001)) | O1001: =IF(F1001="","",IFERROR(VLOOKUP(F1001,'Instellingen & Instructies'!$A$8:$B$10,2,FALSE),0)) | P1001: =IF(OR(N1001="",O1001=""),"",N1001*O1001) | Q1001: =IF(OR(J1001="",K1001=""),IF(OR(J1001<>"",K1001<>""),"Ontbrekende km-stand",""),IF(K1001<J1001,"Controleer km-stand",IF(N1001<0,"Controleer privé km","OK")))

Sheet Overzicht
A1: Managementoverzicht kilometerregistratie
A3: Kerngegevens
A4: Kerngegeven | B4: Waarde
A5: Totaal gereden km | B5: =SUM('Kilometerregistratie'!$L$2:$L$1001)
A6: Totaal zakelijke km | B6: =SUM('Kilometerregistratie'!$N$2:$N$1001)
A7: Totaal privé km | B7: =SUM('Kilometerregistratie'!$M$2:$M$1001)
A8: Totale kilometervergoeding | B8: =SUM('Kilometerregistratie'!$P$2:$P$1001)
A9: Gemiddelde ritafstand | B9: =IFERROR(AVERAGE('Kilometerregistratie'!$L$2:$L$1001),0)
A10: Aantal zakelijke ritten | B10: =COUNTIF('Kilometerregistratie'!$F$2:$F$1001,"Zakelijk")
A11: Percentage zakelijke kilometers | B11: =IFERROR(SUM('Kilometerregistratie'!$N$2:$N$1001)/SUM('Kilometerregistratie'!$L$2:$L$1001),0)
A14: Medewerker | B14: Aantal ritten | C14: Zakelijke km | D14: Totale vergoeding | E14: % zakelijke km | G14: Ritcategorie | H14: Aantal ritten
A15: Sanne | B15: =COUNTIF('Kilometerregistratie'!$C$2:$C$1001,'Overzicht'!$A$15) | C15: =SUMIF('Kilometerregistratie'!$C$2:$C$1001,'Overzicht'!$A$15,'Kilometerregistratie'!$N$2:$N$1001) | D15: =SUMIF('Kilometerregistratie'!$C$2:$C$1001,'Overzicht'!$A$15,'Kilometerregistratie'!$P$2:$P$1001) | E15: =IFERROR('Overzicht'!$C$15/'Overzicht'!$B$6,0) | G15: Zakelijk | H15: =COUNTIF('Kilometerregistratie'!$F$2:$F$1001,'Overzicht'!$G$15)
A16: Daan | B16: =COUNTIF('Kilometerregistratie'!$C$2:$C$1001,'Overzicht'!$A$16) | C16: =SUMIF('Kilometerregistratie'!$C$2:$C$1001,'Overzicht'!$A$16,'Kilometerregistratie'!$N$2:$N$1001) | D16: =SUMIF('Kilometerregistratie'!$C$2:$C$1001,'Overzicht'!$A$16,'Kilometerregistratie'!$P$2:$P$1001) | E16: =IFERROR('Overzicht'!$C$16/'Overzicht'!$B$6,0) | G16: Woon-werk | H16: =COUNTIF('Kilometerregistratie'!$F$2:$F$1001,'Overzicht'!$G$16)
A17: Emma | B17: =COUNTIF('Kilometerregistratie'!$C$2:$C$1001,'Overzicht'!$A$17) | C17: =SUMIF('Kilometerregistratie'!$C$2:$C$1001,'Overzicht'!$A$17,'Kilometerregistratie'!$N$2:$N$1001) | D17: =SUMIF('Kilometerregistratie'!$C$2:$C$1001,'Overzicht'!$A$17,'Kilometerregistratie'!$P$2:$P$1001) | E17: =IFERROR('Overzicht'!$C$17/'Overzicht'!$B$6,0) | G17: Privé | H17: =COUNTIF('Kilometerregistratie'!$F$2:$F$1001,'Overzicht'!$G$17)
A18: Lars | B18: =COUNTIF('Kilometerregistratie'!$C$2:$C$1001,'Overzicht'!$A$18) | C18: =SUMIF('Kilometerregistratie'!$C$2:$C$1001,'Overzicht'!$A$18,'Kilometerregistratie'!$N$2:$N$1001) | D18: =SUMIF('Kilometerregistratie'!$C$2:$C$1001,'Overzicht'!$A$18,'Kilometerregistratie'!$P$2:$P$1001) | E18: =IFERROR('Overzicht'!$C$18/'Overzicht'!$B$6,0)
A19: Sophie | B19: =COUNTIF('Kilometerregistratie'!$C$2:$C$1001,'Overzicht'!$A$19) | C19: =SUMIF('Kilometerregistratie'!$C$2:$C$1001,'Overzicht'!$A$19,'Kilometerregistratie'!$N$2:$N$1001) | D19: =SUMIF('Kilometerregistratie'!$C$2:$C$1001,'Overzicht'!$A$19,'Kilometerregistratie'!$P$2:$P$1001) | E19: =IFERROR('Overzicht'!$C$19/'Overzicht'!$B$6,0)
G22: Maand | H22: Zakelijke km | I22: Einde maand
G23: 46023 | H23: =SUMIFS('Kilometerregistratie'!$N$2:$N$1001,'Kilometerregistratie'!$B$2:$B$1001,">="&'Overzicht'!$G$23,'Kilometerregistratie'!$B$2:$B$1001,"<="&'Overzicht'!$I$23) | I23: 46053
G24: 46054 | H24: =SUMIFS('Kilometerregistratie'!$N$2:$N$1001,'Kilometerregistratie'!$B$2:$B$1001,">="&'Overzicht'!$G$24,'Kilometerregistratie'!$B$2:$B$1001,"<="&'Overzicht'!$I$24) | I24: 46081
G25: 46082 | H25: =SUMIFS('Kilometerregistratie'!$N$2:$N$1001,'Kilometerregistratie'!$B$2:$B$1001,">="&'Overzicht'!$G$25,'Kilometerregistratie'!$B$2:$B$1001,"<="&'Overzicht'!$I$25) | I25: 46112
G26: 46113 | H26: =SUMIFS('Kilometerregistratie'!$N$2:$N$1001,'Kilometerregistratie'!$B$2:$B$1001,">="&'Overzicht'!$G$26,'Kilometerregistratie'!$B$2:$B$1001,"<="&'Overzicht'!$I$26) | I26: 46142
G27: 46143 | H27: =SUMIFS('Kilometerregistratie'!$N$2:$N$1001,'Kilometerregistratie'!$B$2:$B$1001,">="&'Overzicht'!$G$27,'Kilometerregistratie'!$B$2:$B$1001,"<="&'Overzicht'!$I$27) | I27: 46173
G28: 46174 | H28: =SUMIFS('Kilometerregistratie'!$N$2:$N$1001,'Kilometerregistratie'!$B$2:$B$1001,">="&'Overzicht'!$G$28,'Kilometerregistratie'!$B$2:$B$1001,"<="&'Overzicht'!$I$28) | I28: 46203
G29: 46204 | H29: =SUMIFS('Kilometerregistratie'!$N$2:$N$1001,'Kilometerregistratie'!$B$2:$B$1001,">="&'Overzicht'!$G$29,'Kilometerregistratie'!$B$2:$B$1001,"<="&'Overzicht'!$I$29) | I29: 46234
G30: 46235 | H30: =SUMIFS('Kilometerregistratie'!$N$2:$N$1001,'Kilometerregistratie'!$B$2:$B$1001,">="&'Overzicht'!$G$30,'Kilometerregistratie'!$B$2:$B$1001,"<="&'Overzicht'!$I$30) | I30: 46265
G31: 46266 | H31: =SUMIFS('Kilometerregistratie'!$N$2:$N$1001,'Kilometerregistratie'!$B$2:$B$1001,">="&'Overzicht'!$G$31,'Kilometerregistratie'!$B$2:$B$1001,"<="&'Overzicht'!$I$31) | I31: 46295
G32: 46296 | H32: =SUMIFS('Kilometerregistratie'!$N$2:$N$1001,'Kilometerregistratie'!$B$2:$B$1001,">="&'Overzicht'!$G$32,'Kilometerregistratie'!$B$2:$B$1001,"<="&'Overzicht'!$I$32) | I32: 46326
G33: 46327 | H33: =SUMIFS('Kilometerregistratie'!$N$2:$N$1001,'Kilometerregistratie'!$B$2:$B$1001,">="&'Overzicht'!$G$33,'Kilometerregistratie'!$B$2:$B$1001,"<="&'Overzicht'!$I$33) | I33: 46356
G34: 46357 | H34: =SUMIFS('Kilometerregistratie'!$N$2:$N$1001,'Kilometerregistratie'!$B$2:$B$1001,">="&'Overzicht'!$G$34,'Kilometerregistratie'!$B$2:$B$1001,"<="&'Overzicht'!$I$34) | I34: 46387

Sheet Instellingen & Instructies
A1: Instellingen & instructies kilometerregistratie
A3: Bewerk de lichtgele velden om tarieven of voertuigen aan te passen.
A6: Tarieventabel | D6: Voertuigenlijst
A7: Ritcategorie | B7: Vergoeding per km | D7: Voertuig | E7: Kenteken
A8: Zakelijk | B8: 0.23 | D8: Toyota Corolla | E8: XX-123-X
A9: Woon-werk | B9: 0.23 | D9: Volkswagen Golf | E9: AB-456-C
A10: Privé | B10: 0 | D10: Kia Niro | E10: KL-789-D
A13: Werkinstructies
A14: 1. | B14: Registreer iedere rit op de werkelijke datum.
A15: 2. | B15: Vul begin- en eindstand van de kilometerteller volledig in.
A16: 3. | B16: Gebruik “Zakelijk” voor klantbezoek, zakelijke afspraken en zakelijke opdrachten.
A17: 4. | B17: Gebruik “Woon-werk” apart voor woon-werkverkeer.
A18: 5. | B18: Bewaar adressen en zakelijke doelen zorgvuldig in verband met administratie en AVG.
A19: 6. | B19: Controleer maandelijks de registratie vóór declaratie of verwerking in de jaarrekening.
A20: 7. | B20: Vergoedingen zijn exclusief eventuele fiscale beoordeling door werkgever, Belastingdienst of accountant.
